Package: CCPlotR Version: 1.2.0 Command: chmod a+r CCPlotR -R && F:\biocbuild\bbs-3.19-bioc\R\bin\R.exe CMD build --keep-empty-dirs --no-resave-data CCPlotR StartedAt: 2024-06-26 17:38:52 -0400 (Wed, 26 Jun 2024) EndedAt: 2024-06-26 17:39:40 -0400 (Wed, 26 Jun 2024) EllapsedTime: 47.8 seconds RetCode: 0 Status: OK PackageFile: CCPlotR_1.2.0.tar.gz PackageFileSize: 3.122 MiB