Package: CCPlotR Version: 1.2.0 Command: /Library/Frameworks/R.framework/Resources/bin/R CMD check --install=check:CCPlotR.install-out.txt --library=/Library/Frameworks/R.framework/Resources/library --no-vignettes --timings CCPlotR_1.2.0.tar.gz StartedAt: 2024-06-09 19:16:51 -0400 (Sun, 09 Jun 2024) EndedAt: 2024-06-09 19:18:36 -0400 (Sun, 09 Jun 2024) EllapsedTime: 105.1 seconds RetCode: 0 Status: WARNINGS CheckDir: CCPlotR.Rcheck Warnings: 1