Package: CCPlotR Version: 1.2.0 Command: /home/biocbuild/R/R-beta-2024-04-15_r86425/bin/R CMD check --install=check:CCPlotR.install-out.txt --library=/home/biocbuild/R/R-beta-2024-04-15_r86425/site-library --no-vignettes --timings CCPlotR_1.2.0.tar.gz StartedAt: 2024-05-09 05:37:54 -0000 (Thu, 09 May 2024) EndedAt: 2024-05-09 05:39:46 -0000 (Thu, 09 May 2024) EllapsedTime: 112.2 seconds RetCode: 0 Status: WARNINGS CheckDir: CCPlotR.Rcheck Warnings: 1