Package: CCPlotR Version: 1.2.0 Command: /Library/Frameworks/R.framework/Resources/bin/R CMD INSTALL CCPlotR StartedAt: 2024-10-16 17:00:25 -0400 (Wed, 16 Oct 2024) EndedAt: 2024-10-16 17:00:40 -0400 (Wed, 16 Oct 2024) EllapsedTime: 14.9 seconds RetCode: 0 Status: OK