Package: CCPlotR Version: 1.2.0 Command: /Library/Frameworks/R.framework/Resources/bin/R CMD check --install=check:CCPlotR.install-out.txt --library=/Library/Frameworks/R.framework/Resources/library --no-vignettes --timings CCPlotR_1.2.0.tar.gz StartedAt: 2024-10-17 15:18:11 -0400 (Thu, 17 Oct 2024) EndedAt: 2024-10-17 15:20:27 -0400 (Thu, 17 Oct 2024) EllapsedTime: 135.4 seconds RetCode: 0 Status: WARNINGS CheckDir: CCPlotR.Rcheck Warnings: 1