Package: CCPlotR Version: 1.2.0 Command: /Library/Frameworks/R.framework/Resources/bin/R CMD build --keep-empty-dirs --no-resave-data CCPlotR StartedAt: 2024-10-16 20:57:44 -0400 (Wed, 16 Oct 2024) EndedAt: 2024-10-16 20:58:25 -0400 (Wed, 16 Oct 2024) EllapsedTime: 41.2 seconds RetCode: 0 Status: OK PackageFile: CCPlotR_1.2.0.tar.gz PackageFileSize: 4.889 MiB