Package: CCPlotR Version: 1.2.0 Maintainer: Sarah Ennis MaintainerEmail: ennissarah94 at gmail.com git_url: https://git.bioconductor.org/packages/CCPlotR git_branch: RELEASE_3_19 git_last_commit: e19f893 git_last_commit_date: 2024-04-30 11:52:08 -0400 (Tue, 30 Apr 2024)