Package: CBNplot Version: 1.4.2 Command: chmod a+r CBNplot -R && E:\biocbuild\bbs-3.19-bioc\R\bin\R.exe CMD build --keep-empty-dirs --no-resave-data CBNplot StartedAt: 2024-10-16 18:02:59 -0400 (Wed, 16 Oct 2024) EndedAt: 2024-10-16 18:04:22 -0400 (Wed, 16 Oct 2024) EllapsedTime: 82.5 seconds RetCode: 0 Status: OK PackageFile: CBNplot_1.4.2.tar.gz PackageFileSize: 650.3 KiB