Package: CBNplot Version: 1.4.2 Command: /home/biocbuild/bbs-3.19-bioc/R/bin/R CMD INSTALL CBNplot StartedAt: 2024-10-16 16:30:21 -0400 (Wed, 16 Oct 2024) EndedAt: 2024-10-16 16:30:50 -0400 (Wed, 16 Oct 2024) EllapsedTime: 28.4 seconds RetCode: 0 Status: OK