Package: CBNplot Version: 1.4.2 Command: /home/biocbuild/bbs-3.19-bioc/R/bin/R CMD check --install=check:CBNplot.install-out.txt --library=/home/biocbuild/bbs-3.19-bioc/R/site-library --timings CBNplot_1.4.2.tar.gz StartedAt: 2024-10-16 22:29:01 -0400 (Wed, 16 Oct 2024) EndedAt: 2024-10-16 22:35:06 -0400 (Wed, 16 Oct 2024) EllapsedTime: 364.8 seconds RetCode: 0 Status: OK CheckDir: CBNplot.Rcheck Warnings: 0