Package: CBNplot Version: 1.4.0 Command: /Library/Frameworks/R.framework/Resources/bin/R CMD build --keep-empty-dirs --no-resave-data CBNplot StartedAt: 2024-06-09 16:06:05 -0400 (Sun, 09 Jun 2024) EndedAt: 2024-06-09 16:09:46 -0400 (Sun, 09 Jun 2024) EllapsedTime: 220.9 seconds RetCode: 0 Status: OK PackageFile: CBNplot_1.4.0.tar.gz PackageFileSize: 2.677 MiB