Package: CBNplot Version: 1.4.0 Command: rm -rf CBNplot.buildbin-libdir && mkdir CBNplot.buildbin-libdir && /Users/biocbuild/BBS/utils/build-universal.sh CBNplot_1.4.0.tar.gz /Library/Frameworks/R.framework/Resources/bin/R CBNplot.buildbin-libdir StartedAt: 2024-06-11 10:27:56 -0400 (Tue, 11 Jun 2024) EndedAt: 2024-06-11 10:28:51 -0400 (Tue, 11 Jun 2024) EllapsedTime: 55.2 seconds RetCode: 0 Status: OK PackageFile: CBNplot_1.4.0.tgz PackageFileSize: 2.716 MiB