Package: CBNplot Version: 1.4.2 Command: /Library/Frameworks/R.framework/Resources/bin/R CMD build --keep-empty-dirs --no-resave-data CBNplot StartedAt: 2024-10-16 20:56:50 -0400 (Wed, 16 Oct 2024) EndedAt: 2024-10-16 20:58:03 -0400 (Wed, 16 Oct 2024) EllapsedTime: 73.3 seconds RetCode: 0 Status: OK PackageFile: CBNplot_1.4.2.tar.gz PackageFileSize: 1.001 MiB