Package: CBEA Version: 1.4.0 Command: rm -rf CBEA.buildbin-libdir && mkdir CBEA.buildbin-libdir && E:\biocbuild\bbs-3.19-bioc\R\bin\R.exe CMD INSTALL --build --library=CBEA.buildbin-libdir CBEA_1.4.0.tar.gz StartedAt: 2024-10-17 07:29:17 -0400 (Thu, 17 Oct 2024) EndedAt: 2024-10-17 07:30:05 -0400 (Thu, 17 Oct 2024) EllapsedTime: 47.9 seconds RetCode: 0 Status: OK PackageFile: CBEA_1.4.0.zip PackageFileSize: 2.483 MiB