Package: CBEA Version: 1.4.0 Command: chmod a+r CBEA -R && F:\biocbuild\bbs-3.19-bioc\R\bin\R.exe CMD build --keep-empty-dirs --no-resave-data CBEA StartedAt: 2024-06-26 17:37:53 -0400 (Wed, 26 Jun 2024) EndedAt: 2024-06-26 17:39:28 -0400 (Wed, 26 Jun 2024) EllapsedTime: 94.9 seconds RetCode: 0 Status: OK PackageFile: CBEA_1.4.0.tar.gz PackageFileSize: 2.089 MiB