Package: CBEA Version: 1.4.0 Command: /Library/Frameworks/R.framework/Resources/bin/R CMD INSTALL CBEA StartedAt: 2024-10-16 16:18:10 -0400 (Wed, 16 Oct 2024) EndedAt: 2024-10-16 16:19:38 -0400 (Wed, 16 Oct 2024) EllapsedTime: 88.0 seconds RetCode: 0 Status: OK