Package: CBEA Version: 1.4.0 Command: /Library/Frameworks/R.framework/Resources/bin/R CMD build --keep-empty-dirs --no-resave-data CBEA StartedAt: 2024-06-09 16:05:56 -0400 (Sun, 09 Jun 2024) EndedAt: 2024-06-09 16:07:07 -0400 (Sun, 09 Jun 2024) EllapsedTime: 70.8 seconds RetCode: 0 Status: OK PackageFile: CBEA_1.4.0.tar.gz PackageFileSize: 2.089 MiB