Package: CBEA Version: 1.4.0 Command: /home/biocbuild/R/R-beta-2024-04-15_r86425/bin/R CMD check --install=check:CBEA.install-out.txt --library=/home/biocbuild/R/R-beta-2024-04-15_r86425/site-library --no-vignettes --timings CBEA_1.4.0.tar.gz StartedAt: 2024-05-09 05:34:54 -0000 (Thu, 09 May 2024) EndedAt: 2024-05-09 05:41:00 -0000 (Thu, 09 May 2024) EllapsedTime: 366.6 seconds RetCode: 0 Status: OK CheckDir: CBEA.Rcheck Warnings: 0