Package: CBEA Version: 1.4.0 Command: /Library/Frameworks/R.framework/Resources/bin/R CMD INSTALL CBEA StartedAt: 2024-10-16 17:57:02 -0400 (Wed, 16 Oct 2024) EndedAt: 2024-10-16 17:57:49 -0400 (Wed, 16 Oct 2024) EllapsedTime: 46.4 seconds RetCode: 0 Status: OK