Package: CBEA Version: 1.4.0 Command: rm -rf CBEA.buildbin-libdir && mkdir CBEA.buildbin-libdir && /Users/biocbuild/BBS/utils/build-universal.sh CBEA_1.4.0.tar.gz /Library/Frameworks/R.framework/Resources/bin/R CBEA.buildbin-libdir StartedAt: 2024-10-18 17:39:33 -0400 (Fri, 18 Oct 2024) EndedAt: 2024-10-18 17:40:21 -0400 (Fri, 18 Oct 2024) EllapsedTime: 48.4 seconds RetCode: 0 Status: OK PackageFile: CBEA_1.4.0.tgz PackageFileSize: 2.174 MiB