Package: CATALYST Version: 1.28.0 Command: chmod a+r CATALYST -R && E:\biocbuild\bbs-3.19-bioc\R\bin\R.exe CMD build --keep-empty-dirs --no-resave-data CATALYST StartedAt: 2024-10-16 18:02:27 -0400 (Wed, 16 Oct 2024) EndedAt: 2024-10-16 18:09:39 -0400 (Wed, 16 Oct 2024) EllapsedTime: 432.4 seconds RetCode: 0 Status: OK PackageFile: CATALYST_1.28.0.tar.gz PackageFileSize: 6.754 MiB