Package: CATALYST Version: 1.28.0 Command: rm -rf CATALYST.buildbin-libdir && mkdir CATALYST.buildbin-libdir && E:\biocbuild\bbs-3.19-bioc\R\bin\R.exe CMD INSTALL --build --library=CATALYST.buildbin-libdir CATALYST_1.28.0.tar.gz StartedAt: 2024-10-17 07:29:02 -0400 (Thu, 17 Oct 2024) EndedAt: 2024-10-17 07:30:19 -0400 (Thu, 17 Oct 2024) EllapsedTime: 77.1 seconds RetCode: 0 Status: OK PackageFile: CATALYST_1.28.0.zip PackageFileSize: 7.461 MiB