Package: CATALYST Version: 1.28.0 Command: /Library/Frameworks/R.framework/Resources/bin/R CMD check --install=check:CATALYST.install-out.txt --library=/Library/Frameworks/R.framework/Resources/library --no-vignettes --timings CATALYST_1.28.0.tar.gz StartedAt: 2024-06-09 19:14:21 -0400 (Sun, 09 Jun 2024) EndedAt: 2024-06-09 19:25:30 -0400 (Sun, 09 Jun 2024) EllapsedTime: 669.5 seconds RetCode: 0 Status: OK CheckDir: CATALYST.Rcheck Warnings: 0