Package: CATALYST Version: 1.28.0 Command: /Library/Frameworks/R.framework/Resources/bin/R CMD check --install=check:CATALYST.install-out.txt --library=/Library/Frameworks/R.framework/Resources/library --no-vignettes --timings CATALYST_1.28.0.tar.gz StartedAt: 2024-10-17 15:08:22 -0400 (Thu, 17 Oct 2024) EndedAt: 2024-10-17 15:21:46 -0400 (Thu, 17 Oct 2024) EllapsedTime: 804.1 seconds RetCode: 1 Status: ERROR CheckDir: CATALYST.Rcheck Warnings: NA