Package: CARNIVAL Version: 2.14.0 Command: /home/biocbuild/R/R-beta-2024-04-15_r86425/bin/R CMD build --keep-empty-dirs --no-resave-data CARNIVAL StartedAt: 2024-05-08 23:04:06 -0000 (Wed, 08 May 2024) EndedAt: 2024-05-08 23:04:18 -0000 (Wed, 08 May 2024) EllapsedTime: 12.0 seconds RetCode: 0 Status: OK PackageFile: CARNIVAL_2.14.0.tar.gz PackageFileSize: 2.047 MiB