Package: CARNIVAL Version: 2.14.0 Command: /Library/Frameworks/R.framework/Resources/bin/R CMD check --install=check:CARNIVAL.install-out.txt --library=/Library/Frameworks/R.framework/Resources/library --no-vignettes --timings CARNIVAL_2.14.0.tar.gz StartedAt: 2024-10-17 15:07:22 -0400 (Thu, 17 Oct 2024) EndedAt: 2024-10-17 15:08:22 -0400 (Thu, 17 Oct 2024) EllapsedTime: 59.6 seconds RetCode: 0 Status: OK CheckDir: CARNIVAL.Rcheck Warnings: 0