Package: CARNIVAL Version: 2.14.0 Command: /Library/Frameworks/R.framework/Resources/bin/R CMD build --keep-empty-dirs --no-resave-data CARNIVAL StartedAt: 2024-10-16 20:52:44 -0400 (Wed, 16 Oct 2024) EndedAt: 2024-10-16 20:52:56 -0400 (Wed, 16 Oct 2024) EllapsedTime: 12.7 seconds RetCode: 0 Status: OK PackageFile: CARNIVAL_2.14.0.tar.gz PackageFileSize: 2.047 MiB