Package: CARNIVAL Version: 2.14.0 Command: rm -rf CARNIVAL.buildbin-libdir && mkdir CARNIVAL.buildbin-libdir && /Users/biocbuild/BBS/utils/build-universal.sh CARNIVAL_2.14.0.tar.gz /Library/Frameworks/R.framework/Resources/bin/R CARNIVAL.buildbin-libdir StartedAt: 2024-10-18 17:38:55 -0400 (Fri, 18 Oct 2024) EndedAt: 2024-10-18 17:39:04 -0400 (Fri, 18 Oct 2024) EllapsedTime: 8.9 seconds RetCode: 0 Status: OK PackageFile: CARNIVAL_2.14.0.tgz PackageFileSize: 415.7 KiB