Package: CAGEfightR Version: 1.24.0 Command: E:\biocbuild\bbs-3.19-bioc\R\bin\R.exe CMD INSTALL CAGEfightR StartedAt: 2024-10-16 16:51:29 -0400 (Wed, 16 Oct 2024) EndedAt: 2024-10-16 16:52:45 -0400 (Wed, 16 Oct 2024) EllapsedTime: 76.7 seconds RetCode: 0 Status: OK