Package: CAGEfightR Version: 1.24.0 Command: rm -rf CAGEfightR.buildbin-libdir && mkdir CAGEfightR.buildbin-libdir && E:\biocbuild\bbs-3.19-bioc\R\bin\R.exe CMD INSTALL --build --library=CAGEfightR.buildbin-libdir CAGEfightR_1.24.0.tar.gz StartedAt: 2024-10-17 07:28:16 -0400 (Thu, 17 Oct 2024) EndedAt: 2024-10-17 07:29:46 -0400 (Thu, 17 Oct 2024) EllapsedTime: 89.9 seconds RetCode: 0 Status: OK PackageFile: CAGEfightR_1.24.0.zip PackageFileSize: 2.495 MiB