Package: CAGEfightR Version: 1.24.0 Command: /home/biocbuild/bbs-3.19-bioc/R/bin/R CMD build --keep-empty-dirs --no-resave-data CAGEfightR StartedAt: 2024-10-16 17:27:00 -0400 (Wed, 16 Oct 2024) EndedAt: 2024-10-16 17:30:06 -0400 (Wed, 16 Oct 2024) EllapsedTime: 186.3 seconds RetCode: 0 Status: OK PackageFile: CAGEfightR_1.24.0.tar.gz PackageFileSize: 1.67 MiB