Package: CAGEfightR Version: 1.24.0 Command: rm -rf CAGEfightR.buildbin-libdir && mkdir CAGEfightR.buildbin-libdir && /Users/biocbuild/BBS/utils/build-universal.sh CAGEfightR_1.24.0.tar.gz /Library/Frameworks/R.framework/Resources/bin/R CAGEfightR.buildbin-libdir StartedAt: 2024-10-17 15:46:28 -0400 (Thu, 17 Oct 2024) EndedAt: 2024-10-17 15:48:31 -0400 (Thu, 17 Oct 2024) EllapsedTime: 123.0 seconds RetCode: 0 Status: OK PackageFile: CAGEfightR_1.24.0.tgz PackageFileSize: 2.716 MiB