Package: CAGEfightR Version: 1.24.0 Command: rm -rf CAGEfightR.buildbin-libdir && mkdir CAGEfightR.buildbin-libdir && /Users/biocbuild/BBS/utils/build-universal.sh CAGEfightR_1.24.0.tar.gz /Library/Frameworks/R.framework/Resources/bin/R CAGEfightR.buildbin-libdir StartedAt: 2024-06-10 00:09:35 -0400 (Mon, 10 Jun 2024) EndedAt: 2024-06-10 00:10:44 -0400 (Mon, 10 Jun 2024) EllapsedTime: 69.6 seconds RetCode: 0 Status: OK PackageFile: CAGEfightR_1.24.0.tgz PackageFileSize: 2.716 MiB