Package: CAFE Version: 1.40.0 Command: rm -rf CAFE.buildbin-libdir && mkdir CAFE.buildbin-libdir && /Users/biocbuild/BBS/utils/build-universal.sh CAFE_1.40.0.tar.gz /Library/Frameworks/R.framework/Resources/bin/R CAFE.buildbin-libdir StartedAt: 2024-06-10 00:09:33 -0400 (Mon, 10 Jun 2024) EndedAt: 2024-06-10 00:10:51 -0400 (Mon, 10 Jun 2024) EllapsedTime: 77.6 seconds RetCode: 0 Status: OK PackageFile: CAFE_1.40.0.tgz PackageFileSize: 4.687 MiB