Package: CAFE Version: 1.40.0 Command: rm -rf CAFE.buildbin-libdir && mkdir CAFE.buildbin-libdir && /Users/biocbuild/BBS/utils/build-universal.sh CAFE_1.40.0.tar.gz /Library/Frameworks/R.framework/Resources/bin/R CAFE.buildbin-libdir StartedAt: 2024-06-11 10:25:30 -0400 (Tue, 11 Jun 2024) EndedAt: 2024-06-11 10:30:09 -0400 (Tue, 11 Jun 2024) EllapsedTime: 278.5 seconds RetCode: 0 Status: OK PackageFile: CAFE_1.40.0.tgz PackageFileSize: 4.687 MiB