Package: BumpyMatrix Version: 1.12.0 Command: chmod a+r BumpyMatrix -R && E:\biocbuild\bbs-3.19-bioc\R\bin\R.exe CMD build --keep-empty-dirs --no-resave-data BumpyMatrix StartedAt: 2024-10-16 17:59:15 -0400 (Wed, 16 Oct 2024) EndedAt: 2024-10-16 17:59:56 -0400 (Wed, 16 Oct 2024) EllapsedTime: 41.0 seconds RetCode: 0 Status: OK PackageFile: BumpyMatrix_1.12.0.tar.gz PackageFileSize: 318 KiB