Package: BumpyMatrix Version: 1.12.0 Command: /home/biocbuild/bbs-3.19-bioc/R/bin/R CMD build --keep-empty-dirs --no-resave-data BumpyMatrix StartedAt: 2024-10-16 17:25:49 -0400 (Wed, 16 Oct 2024) EndedAt: 2024-10-16 17:26:10 -0400 (Wed, 16 Oct 2024) EllapsedTime: 21.0 seconds RetCode: 0 Status: OK PackageFile: BumpyMatrix_1.12.0.tar.gz PackageFileSize: 317.9 KiB