Package: BumpyMatrix Version: 1.12.0 Command: rm -rf BumpyMatrix.buildbin-libdir && mkdir BumpyMatrix.buildbin-libdir && /Users/biocbuild/BBS/utils/build-universal.sh BumpyMatrix_1.12.0.tar.gz /Library/Frameworks/R.framework/Resources/bin/R BumpyMatrix.buildbin-libdir StartedAt: 2024-10-17 15:46:02 -0400 (Thu, 17 Oct 2024) EndedAt: 2024-10-17 15:46:40 -0400 (Thu, 17 Oct 2024) EllapsedTime: 38.3 seconds RetCode: 0 Status: OK PackageFile: BumpyMatrix_1.12.0.tgz PackageFileSize: 1.014 MiB