Package: BumpyMatrix Version: 1.12.0 Command: /Library/Frameworks/R.framework/Resources/bin/R CMD INSTALL BumpyMatrix StartedAt: 2024-06-09 15:06:32 -0400 (Sun, 09 Jun 2024) EndedAt: 2024-06-09 15:06:55 -0400 (Sun, 09 Jun 2024) EllapsedTime: 23.3 seconds RetCode: 0 Status: OK