Package: BumpyMatrix Version: 1.12.0 Command: /home/biocbuild/R/R-beta-2024-04-15_r86425/bin/R CMD check --install=check:BumpyMatrix.install-out.txt --library=/home/biocbuild/R/R-beta-2024-04-15_r86425/site-library --no-vignettes --timings BumpyMatrix_1.12.0.tar.gz StartedAt: 2024-05-09 05:28:47 -0000 (Thu, 09 May 2024) EndedAt: 2024-05-09 05:30:39 -0000 (Thu, 09 May 2024) EllapsedTime: 112.2 seconds RetCode: 0 Status: OK CheckDir: BumpyMatrix.Rcheck Warnings: 0