Package: BumpyMatrix Version: 1.12.0 Command: /Library/Frameworks/R.framework/Resources/bin/R CMD check --install=check:BumpyMatrix.install-out.txt --library=/Library/Frameworks/R.framework/Resources/library --no-vignettes --timings BumpyMatrix_1.12.0.tar.gz StartedAt: 2024-10-17 14:44:57 -0400 (Thu, 17 Oct 2024) EndedAt: 2024-10-17 14:46:55 -0400 (Thu, 17 Oct 2024) EllapsedTime: 118.9 seconds RetCode: 0 Status: OK CheckDir: BumpyMatrix.Rcheck Warnings: 0