Package: BumpyMatrix Version: 1.12.0 Command: /Library/Frameworks/R.framework/Resources/bin/R CMD build --keep-empty-dirs --no-resave-data BumpyMatrix StartedAt: 2024-10-16 20:44:17 -0400 (Wed, 16 Oct 2024) EndedAt: 2024-10-16 20:44:44 -0400 (Wed, 16 Oct 2024) EllapsedTime: 27.4 seconds RetCode: 0 Status: OK PackageFile: BumpyMatrix_1.12.0.tar.gz PackageFileSize: 317.6 KiB