Package: BufferedMatrixMethods Version: 1.68.0 Command: chmod a+r BufferedMatrixMethods -R && E:\biocbuild\bbs-3.19-bioc\R\bin\R.exe CMD build --keep-empty-dirs --no-resave-data BufferedMatrixMethods StartedAt: 2024-10-16 17:59:10 -0400 (Wed, 16 Oct 2024) EndedAt: 2024-10-16 17:59:13 -0400 (Wed, 16 Oct 2024) EllapsedTime: 3.1 seconds RetCode: 0 Status: OK PackageFile: BufferedMatrixMethods_1.68.0.tar.gz PackageFileSize: 10.85 KiB