Package: BufferedMatrixMethods Version: 1.68.0 Command: rm -rf BufferedMatrixMethods.buildbin-libdir && mkdir BufferedMatrixMethods.buildbin-libdir && E:\biocbuild\bbs-3.19-bioc\R\bin\R.exe CMD INSTALL --build --library=BufferedMatrixMethods.buildbin-libdir BufferedMatrixMethods_1.68.0.tar.gz StartedAt: 2024-10-17 07:27:49 -0400 (Thu, 17 Oct 2024) EndedAt: 2024-10-17 07:28:01 -0400 (Thu, 17 Oct 2024) EllapsedTime: 12.3 seconds RetCode: 0 Status: OK PackageFile: BufferedMatrixMethods_1.68.0.zip PackageFileSize: 52.96 KiB