Package: BufferedMatrixMethods Version: 1.68.0 Command: /home/biocbuild/bbs-3.19-bioc/R/bin/R CMD build --keep-empty-dirs --no-resave-data BufferedMatrixMethods StartedAt: 2024-10-16 17:24:38 -0400 (Wed, 16 Oct 2024) EndedAt: 2024-10-16 17:24:39 -0400 (Wed, 16 Oct 2024) EllapsedTime: 1.0 seconds RetCode: 0 Status: OK PackageFile: BufferedMatrixMethods_1.68.0.tar.gz PackageFileSize: 10.84 KiB