Package: BufferedMatrixMethods Version: 1.68.0 Command: /home/biocbuild/R/R-beta-2024-04-15_r86425/bin/R CMD check --install=check:BufferedMatrixMethods.install-out.txt --library=/home/biocbuild/R/R-beta-2024-04-15_r86425/site-library --no-vignettes --timings BufferedMatrixMethods_1.68.0.tar.gz StartedAt: 2024-05-09 05:27:48 -0000 (Thu, 09 May 2024) EndedAt: 2024-05-09 05:28:05 -0000 (Thu, 09 May 2024) EllapsedTime: 17.0 seconds RetCode: 0 Status: OK CheckDir: BufferedMatrixMethods.Rcheck Warnings: 0