Package: BufferedMatrixMethods Version: 1.68.0 Command: /Library/Frameworks/R.framework/Resources/bin/R CMD build --keep-empty-dirs --no-resave-data BufferedMatrixMethods StartedAt: 2024-10-16 20:43:07 -0400 (Wed, 16 Oct 2024) EndedAt: 2024-10-16 20:43:08 -0400 (Wed, 16 Oct 2024) EllapsedTime: 1.2 seconds RetCode: 0 Status: OK PackageFile: BufferedMatrixMethods_1.68.0.tar.gz PackageFileSize: 10.85 KiB