Package: BufferedMatrix Version: 1.68.0 Command: chmod a+r BufferedMatrix -R && E:\biocbuild\bbs-3.19-bioc\R\bin\R.exe CMD build --keep-empty-dirs --no-resave-data BufferedMatrix StartedAt: 2024-10-16 17:59:03 -0400 (Wed, 16 Oct 2024) EndedAt: 2024-10-16 17:59:42 -0400 (Wed, 16 Oct 2024) EllapsedTime: 39.2 seconds RetCode: 0 Status: OK PackageFile: BufferedMatrix_1.68.0.tar.gz PackageFileSize: 490.5 KiB