Package: BufferedMatrix Version: 1.68.0 Command: chmod a+r BufferedMatrix -R && F:\biocbuild\bbs-3.19-bioc\R\bin\R.exe CMD build --keep-empty-dirs --no-resave-data BufferedMatrix StartedAt: 2024-06-26 17:33:48 -0400 (Wed, 26 Jun 2024) EndedAt: 2024-06-26 17:34:25 -0400 (Wed, 26 Jun 2024) EllapsedTime: 37.3 seconds RetCode: 0 Status: OK PackageFile: BufferedMatrix_1.68.0.tar.gz PackageFileSize: 489.8 KiB