Package: BufferedMatrix Version: 1.68.0 Command: rm -rf BufferedMatrix.buildbin-libdir && mkdir BufferedMatrix.buildbin-libdir && F:\biocbuild\bbs-3.19-bioc\R\bin\R.exe CMD INSTALL --build --library=BufferedMatrix.buildbin-libdir BufferedMatrix_1.68.0.tar.gz StartedAt: 2024-06-27 07:55:54 -0400 (Thu, 27 Jun 2024) EndedAt: 2024-06-27 07:56:20 -0400 (Thu, 27 Jun 2024) EllapsedTime: 25.7 seconds RetCode: 0 Status: OK PackageFile: BufferedMatrix_1.68.0.zip PackageFileSize: 569.9 KiB